BEGIN:VCALENDAR
VERSION:2.0
PRODID:-//eventon.com NONSGML v1.0//EN
CALSCALE:GREGORIAN
METHOD:PUBLISH
BEGIN:VEVENT
UID:69e62489ac7d9
DTSTAMP:20260420T130513Z
DTSTART:20190428T093000Z
DTEND:20190428T180000Z
LOCATION:Tennisanlage am Viadukt Seeweg 8
SUMMARY:HTV-Saisoneröffnung
DESCRIPTION:Ab 9:30 Frühstück im Vereinsheim (bitte telefonisch anmelden 
 bei Jutta Flaßhoff: Tel.10196) Ab ca. 11:00 Schleifchenturnier Auch im Ans
 chluss ist für das leibliche Wohl gesorgt\nhttps://herdeckertv.de/events/h
 tv-saisoneroeffnung/
URL:https://herdeckertv.de/events/htv-saisoneroeffnung/
END:VEVENT
END:VCALENDAR