BEGIN:VCALENDAR
VERSION:2.0
PRODID:-//eventon.com NONSGML v1.0//EN
CALSCALE:GREGORIAN
METHOD:PUBLISH
BEGIN:VEVENT
UID:69e73768502e8
DTSTAMP:20260421T083800Z
DTSTART:20251001T160000Z
DTEND:20251001T173000Z
LOCATION:
SUMMARY:Jugend Tenniskarussell
DESCRIPTION:Es findet statt am  1. und 3. Mittwoch im Monat von 16.00 – 
 17:30 Uhr.  Eine Anmeldung ist nicht erforderlich\,  kommen und spielen h
 eißt das Motto.\nhttps://herdeckertv.de/events/jugend-tenniskarussell-6/
URL:https://herdeckertv.de/events/jugend-tenniskarussell-6/
END:VEVENT
END:VCALENDAR