BEGIN:VCALENDAR
VERSION:2.0
PRODID:-//eventon.com NONSGML v1.0//EN
CALSCALE:GREGORIAN
METHOD:PUBLISH
BEGIN:VEVENT
UID:69e7362e2dda9
DTSTAMP:20260421T083246Z
DTSTART:20240615T130000Z
DTEND:20240615T235900Z
LOCATION:
SUMMARY:Herren 30 HTV - TV Erwitte 1951 1
DESCRIPTION:Herren 30 HTV - TV Erwitte 1951 1\nhttps://herdeckertv.de/event
 s/herren-30-htv-tv-erwitte-1951-1/
URL:https://herdeckertv.de/events/herren-30-htv-tv-erwitte-1951-1/
END:VEVENT
END:VCALENDAR