BEGIN:VCALENDAR
VERSION:2.0
PRODID:-//eventon.com NONSGML v1.0//EN
CALSCALE:GREGORIAN
METHOD:PUBLISH
BEGIN:VEVENT
UID:69e73bf10997f
DTSTAMP:20260421T085721Z
DTSTART:20190614T163000Z
DTEND:20190614T235000Z
LOCATION:Tennisanlage am Viadukt Seeweg 8
SUMMARY:Junioren U18 HTV - TSG Westhofen TA
DESCRIPTION:Junioren U18 HTV - TSG Westhofen TA\nhttps://herdeckertv.de/eve
 nts/junioren-u18-htv-tsg-westhofen-ta-2/
URL:https://herdeckertv.de/events/junioren-u18-htv-tsg-westhofen-ta-2/
END:VEVENT
END:VCALENDAR